BEGIN:VCALENDAR
VERSION:2.0
PRODID:-//Kabarettist MATTHIAS MACHWERK - ECPv6.15.20//NONSGML v1.0//EN
CALSCALE:GREGORIAN
METHOD:PUBLISH
X-WR-CALNAME:Kabarettist MATTHIAS MACHWERK
X-ORIGINAL-URL:https://www.matthias-machwerk.de
X-WR-CALDESC:Veranstaltungen für Kabarettist MATTHIAS MACHWERK
REFRESH-INTERVAL;VALUE=DURATION:PT1H
X-Robots-Tag:noindex
X-PUBLISHED-TTL:PT1H
BEGIN:VTIMEZONE
TZID:Europe/Berlin
BEGIN:DAYLIGHT
TZOFFSETFROM:+0100
TZOFFSETTO:+0200
TZNAME:CEST
DTSTART:20250330T010000
END:DAYLIGHT
BEGIN:STANDARD
TZOFFSETFROM:+0200
TZOFFSETTO:+0100
TZNAME:CET
DTSTART:20251026T010000
END:STANDARD
BEGIN:DAYLIGHT
TZOFFSETFROM:+0100
TZOFFSETTO:+0200
TZNAME:CEST
DTSTART:20260329T010000
END:DAYLIGHT
BEGIN:STANDARD
TZOFFSETFROM:+0200
TZOFFSETTO:+0100
TZNAME:CET
DTSTART:20261025T010000
END:STANDARD
BEGIN:DAYLIGHT
TZOFFSETFROM:+0100
TZOFFSETTO:+0200
TZNAME:CEST
DTSTART:20270328T010000
END:DAYLIGHT
BEGIN:STANDARD
TZOFFSETFROM:+0200
TZOFFSETTO:+0100
TZNAME:CET
DTSTART:20271031T010000
END:STANDARD
END:VTIMEZONE
BEGIN:VEVENT
DTSTART;TZID=Europe/Berlin:20260306T193000
DTEND;TZID=Europe/Berlin:20260306T220000
DTSTAMP:20260421T102915
CREATED:20251219T073650Z
LAST-MODIFIED:20260304T071001Z
UID:10000034-1772825400-1772834400@www.matthias-machwerk.de
SUMMARY:Frauen sind schärfer\, als Mann glaubt!  Nur noch RESTKARTEN!
DESCRIPTION:
URL:https://www.matthias-machwerk.de/termin/sex-suff-u-a-schadensfaelle-3/
LOCATION:Leipzig – Centralkabarett\, King Albert House\, Markt 9\, Leipzig\, 04109
GEO:51.3396955;12.3730747
X-APPLE-STRUCTURED-LOCATION;VALUE=URI;X-ADDRESS=Leipzig – Centralkabarett King Albert House Markt 9 Leipzig 04109;X-APPLE-RADIUS=500;X-TITLE=King Albert House\, Markt 9:geo:12.3730747,51.3396955
END:VEVENT
END:VCALENDAR