BEGIN:VCALENDAR
VERSION:2.0
PRODID:-//Kabarettist MATTHIAS MACHWERK - ECPv6.15.20//NONSGML v1.0//EN
CALSCALE:GREGORIAN
METHOD:PUBLISH
X-WR-CALNAME:Kabarettist MATTHIAS MACHWERK
X-ORIGINAL-URL:https://www.matthias-machwerk.de
X-WR-CALDESC:Veranstaltungen für Kabarettist MATTHIAS MACHWERK
REFRESH-INTERVAL;VALUE=DURATION:PT1H
X-Robots-Tag:noindex
X-PUBLISHED-TTL:PT1H
BEGIN:VTIMEZONE
TZID:Europe/Berlin
BEGIN:DAYLIGHT
TZOFFSETFROM:+0100
TZOFFSETTO:+0200
TZNAME:CEST
DTSTART:20240331T010000
END:DAYLIGHT
BEGIN:STANDARD
TZOFFSETFROM:+0200
TZOFFSETTO:+0100
TZNAME:CET
DTSTART:20241027T010000
END:STANDARD
BEGIN:DAYLIGHT
TZOFFSETFROM:+0100
TZOFFSETTO:+0200
TZNAME:CEST
DTSTART:20250330T010000
END:DAYLIGHT
BEGIN:STANDARD
TZOFFSETFROM:+0200
TZOFFSETTO:+0100
TZNAME:CET
DTSTART:20251026T010000
END:STANDARD
BEGIN:DAYLIGHT
TZOFFSETFROM:+0100
TZOFFSETTO:+0200
TZNAME:CEST
DTSTART:20260329T010000
END:DAYLIGHT
BEGIN:STANDARD
TZOFFSETFROM:+0200
TZOFFSETTO:+0100
TZNAME:CET
DTSTART:20261025T010000
END:STANDARD
END:VTIMEZONE
BEGIN:VEVENT
DTSTART;TZID=Europe/Berlin:20251211T180000
DTEND;TZID=Europe/Berlin:20251211T200000
DTSTAMP:20260421T141601
CREATED:20251125T233312Z
LAST-MODIFIED:20251125T233312Z
UID:10000011-1765476000-1765483200@www.matthias-machwerk.de
SUMMARY:Immer auf die Glocken 2025 - Die Weihnachtscomedy
DESCRIPTION:Ein BEST of Programm über Weihnacht\, Wein und Wei(h)nkrämpfe.\nMatthias Machwerk präsentiert ein weihnachtliches Gag-Feuerwerk. Er berichtet von Weihnachtsmännern ohne Sack\, Bäumen ohne Nadeln und Essen ohne Ende. Frustriert staut man sich über die Autobahn. Man besucht seine Liebsten oder die Familie. Die Frauen sehen „3 Haselnüsse für Aschendödel“. Die Männer schauen ins Glas. Gemeinsam begreift man\, dass der Wunschzettel heute ein Bestellschein ist und das Kinderaugen nur noch vom Glühwein leuchten. Und zum Schluss stellen alle fest: Das Schönste am Weihnachtsfeste\, das Essen bleibt drin\, aber es gehen die Gäste. Die Presse schrieb: „…entfesselt ein furioses Weihnachtsspektakel…das Publikum war begeistert.
URL:https://www.matthias-machwerk.de/termin/immer-auf-die-glocken-2025-die-weihnachtscomedy-3/
LOCATION:Lohsa – Pyramide\, Am Strand 2\, Lohsa\, 02999
CATEGORIES:Immer auf die Glocken
GEO:51.3953952;14.4007772
X-APPLE-STRUCTURED-LOCATION;VALUE=URI;X-ADDRESS=Lohsa – Pyramide Am Strand 2 Lohsa 02999;X-APPLE-RADIUS=500;X-TITLE=Am Strand 2:geo:14.4007772,51.3953952
END:VEVENT
END:VCALENDAR